BEGIN:VCALENDAR
VERSION:2.0
PRODID:spatie/icalendar-generator
DESCRIPTION:Events from Scotch Pines
X-WR-CALDESC:Events from Scotch Pines
REFRESH-INTERVAL;VALUE=DURATION:PT1440M
X-PUBLISHED-TTL:PT1440M
BEGIN:VTIMEZONE
TZID:Etc/GMT+0
BEGIN:STANDARD
DTSTART:20200724T163000Z
TZOFFSETFROM:+0000
TZOFFSETTO:+0000
END:STANDARD
END:VTIMEZONE
BEGIN:VTIMEZONE
TZID:UTC
BEGIN:STANDARD
DTSTART:20250729T103141Z
TZOFFSETFROM:+0000
TZOFFSETTO:+0000
END:STANDARD
END:VTIMEZONE
BEGIN:VEVENT
UID:32-31
DTSTAMP:20260425T103141Z
SUMMARY:2021 Men's League Opening Social
LOCATION:
ORGANIZER;CN=ScotchPinesGCEdit:MAILTO:mholcomb@threeriversagency.net
DTSTART;TZID=Etc/GMT+0:20210420T163000
DTEND;TZID=Etc/GMT+0:20210420T173000
X-ALT-DESC;FMTTYPE=TEXT/HTML:COURSE CLOSES AT 4:30 P.M.
CATEGORIES:Men\'s League
URL;VALUE=URI:https://scotchpinesgolf.com/mc-events/2021-mens-league-openin
 g-social/
METHOD:PUBLISH
END:VEVENT
END:VCALENDAR