BEGIN:VCALENDAR
VERSION:2.0
PRODID:spatie/icalendar-generator
DESCRIPTION:Events from Scotch Pines
X-WR-CALDESC:Events from Scotch Pines
REFRESH-INTERVAL;VALUE=DURATION:PT1440M
X-PUBLISHED-TTL:PT1440M
BEGIN:VTIMEZONE
TZID:Etc/GMT+0
BEGIN:STANDARD
DTSTART:20231115T090000Z
TZOFFSETFROM:+0000
TZOFFSETTO:+0000
END:STANDARD
END:VTIMEZONE
BEGIN:VTIMEZONE
TZID:UTC
BEGIN:STANDARD
DTSTART:20250728T073332Z
TZOFFSETFROM:+0000
TZOFFSETTO:+0000
END:STANDARD
END:VTIMEZONE
BEGIN:VEVENT
UID:138-111
DTSTAMP:20260424T073332Z
SUMMARY:Scotch Pines Club Championship
LOCATION:
ORGANIZER;CN=ScotchPinesGCEdit:MAILTO:mholcomb@threeriversagency.net
RRULE:FREQ=DAILY;UNTIL=20240812T000000Z
DTSTART;TZID=Etc/GMT+0:20240811T090000
DTEND;TZID=Etc/GMT+0:20240811T100000
X-ALT-DESC;FMTTYPE=TEXT/HTML:9:00 A.M. Shotgun
CATEGORIES:Tournaments,  General Events
URL;VALUE=URI:https://scotchpinesgolf.com/mc-events/scotch-pines-club-champ
 ionship-2/?mc_id=138
METHOD:PUBLISH
END:VEVENT
END:VCALENDAR