BEGIN:VCALENDAR
VERSION:2.0
PRODID:spatie/icalendar-generator
DESCRIPTION:Events from Scotch Pines
X-WR-CALDESC:Events from Scotch Pines
REFRESH-INTERVAL;VALUE=DURATION:PT1440M
X-PUBLISHED-TTL:PT1440M
BEGIN:VTIMEZONE
TZID:Etc/GMT+0
BEGIN:STANDARD
DTSTART:20231224T090000Z
TZOFFSETFROM:+0000
TZOFFSETTO:+0000
END:STANDARD
END:VTIMEZONE
BEGIN:VTIMEZONE
TZID:UTC
BEGIN:STANDARD
DTSTART:20250728T073922Z
TZOFFSETFROM:+0000
TZOFFSETTO:+0000
END:STANDARD
END:VTIMEZONE
BEGIN:VEVENT
UID:142-115
DTSTAMP:20260424T073922Z
SUMMARY:Senior (50+) Two-Lady Scramble
LOCATION:
ORGANIZER;CN=ScotchPinesGCEdit:MAILTO:mholcomb@threeriversagency.net
DTSTART;TZID=Etc/GMT+0:20240919T090000
DTEND;TZID=Etc/GMT+0:20240919T100000
X-ALT-DESC;FMTTYPE=TEXT/HTML:9:00 A.M. Shotgun* * Time Is Subject To Change
CATEGORIES:Tournaments,  General Events
URL;VALUE=URI:https://scotchpinesgolf.com/mc-events/senior-50-two-lady-scra
 mble/
METHOD:PUBLISH
END:VEVENT
END:VCALENDAR