BEGIN:VCALENDAR
VERSION:2.0
PRODID:spatie/icalendar-generator
DESCRIPTION:Events from Scotch Pines
X-WR-CALDESC:Events from Scotch Pines
REFRESH-INTERVAL;VALUE=DURATION:PT1440M
X-PUBLISHED-TTL:PT1440M
BEGIN:VTIMEZONE
TZID:Etc/GMT+0
BEGIN:STANDARD
DTSTART:20231231T000000Z
TZOFFSETFROM:+0000
TZOFFSETTO:+0000
END:STANDARD
END:VTIMEZONE
BEGIN:VTIMEZONE
TZID:UTC
BEGIN:STANDARD
DTSTART:20250728T073217Z
TZOFFSETFROM:+0000
TZOFFSETTO:+0000
END:STANDARD
END:VTIMEZONE
BEGIN:VEVENT
UID:145-118
DTSTAMP:20260424T073217Z
SUMMARY:TVG 36-Hole Tour Championship
LOCATION:
ORGANIZER;CN=ScotchPinesGCEdit:MAILTO:mholcomb@threeriversagency.net
DTSTART;TZID=Etc/GMT+0;VALUE=DATE:20240926
DTEND;TZID=Etc/GMT+0;VALUE=DATE:20240927
X-ALT-DESC;FMTTYPE=TEXT/HTML:$75.00 Per Player
CATEGORIES:Tournaments,  General Events
URL;VALUE=URI:https://scotchpinesgolf.com/mc-events/tvg-36-hole-tour-champi
 onship/
METHOD:PUBLISH
END:VEVENT
END:VCALENDAR