BEGIN:VCALENDAR
VERSION:2.0
PRODID:spatie/icalendar-generator
DESCRIPTION:Events from Scotch Pines
X-WR-CALDESC:Events from Scotch Pines
REFRESH-INTERVAL;VALUE=DURATION:PT1440M
X-PUBLISHED-TTL:PT1440M
BEGIN:VTIMEZONE
TZID:Etc/GMT+0
BEGIN:STANDARD
DTSTART:20250813T000000Z
TZOFFSETFROM:+0000
TZOFFSETTO:+0000
END:STANDARD
END:VTIMEZONE
BEGIN:VTIMEZONE
TZID:UTC
BEGIN:STANDARD
DTSTART:20250726T083443Z
TZOFFSETFROM:+0000
TZOFFSETTO:+0000
END:STANDARD
END:VTIMEZONE
BEGIN:VEVENT
UID:162-133
DTSTAMP:20260422T083443Z
SUMMARY:High School State Golf Championship
LOCATION:
ORGANIZER;CN=foreUPwebsites:MAILTO:websites2@foreup.com
DTSTART;TZID=Etc/GMT+0;VALUE=DATE:20260510
DTEND;TZID=Etc/GMT+0;VALUE=DATE:20260513
X-ALT-DESC;FMTTYPE=TEXT/HTML:
CATEGORIES:Aeration
URL;VALUE=URI:https://scotchpinesgolf.com/mc-events/high-school-state-golf-
 championship/
METHOD:PUBLISH
END:VEVENT
END:VCALENDAR