BEGIN:VCALENDAR
VERSION:2.0
PRODID:spatie/icalendar-generator
DESCRIPTION:Events from Scotch Pines
X-WR-CALDESC:Events from Scotch Pines
REFRESH-INTERVAL;VALUE=DURATION:PT1440M
X-PUBLISHED-TTL:PT1440M
BEGIN:VTIMEZONE
TZID:Etc/GMT+0
BEGIN:STANDARD
DTSTART:20250902T000000Z
TZOFFSETFROM:+0000
TZOFFSETTO:+0000
END:STANDARD
END:VTIMEZONE
BEGIN:VTIMEZONE
TZID:UTC
BEGIN:STANDARD
DTSTART:20250725T081049Z
TZOFFSETFROM:+0000
TZOFFSETTO:+0000
END:STANDARD
END:VTIMEZONE
BEGIN:VEVENT
UID:167-138
DTSTAMP:20260421T081049Z
SUMMARY:TVCC Chukar Shootout 9:00 am SG
LOCATION:
ORGANIZER;CN=foreUPwebsites:MAILTO:websites2@foreup.com
DTSTART;TZID=Etc/GMT+0;VALUE=DATE:20260530
DTEND;TZID=Etc/GMT+0;VALUE=DATE:20260531
X-ALT-DESC;FMTTYPE=TEXT/HTML:
CATEGORIES:Aeration
URL;VALUE=URI:https://scotchpinesgolf.com/mc-events/tvcc-chukar-shootout-90
 0-am-sg/
METHOD:PUBLISH
END:VEVENT
END:VCALENDAR