BEGIN:VCALENDAR
VERSION:2.0
PRODID:spatie/icalendar-generator
DESCRIPTION:Events from Scotch Pines
X-WR-CALDESC:Events from Scotch Pines
REFRESH-INTERVAL;VALUE=DURATION:PT1440M
X-PUBLISHED-TTL:PT1440M
BEGIN:VTIMEZONE
TZID:Etc/GMT+0
BEGIN:STANDARD
DTSTART:20251028T000000Z
TZOFFSETFROM:+0000
TZOFFSETTO:+0000
END:STANDARD
END:VTIMEZONE
BEGIN:VTIMEZONE
TZID:UTC
BEGIN:STANDARD
DTSTART:20250725T082111Z
TZOFFSETFROM:+0000
TZOFFSETTO:+0000
END:STANDARD
END:VTIMEZONE
BEGIN:VEVENT
UID:179-150
DTSTAMP:20260421T082111Z
SUMMARY:Scotch Pines Member Guest Men and Women
LOCATION:
ORGANIZER;CN=foreUPwebsites:MAILTO:websites2@foreup.com
DTSTART;TZID=Etc/GMT+0;VALUE=DATE:20260725
DTEND;TZID=Etc/GMT+0;VALUE=DATE:20260727
X-ALT-DESC;FMTTYPE=TEXT/HTML:
CATEGORIES:Aeration
URL;VALUE=URI:https://scotchpinesgolf.com/mc-events/scotch-pines-member-gue
 st-men-and-women/
METHOD:PUBLISH
END:VEVENT
END:VCALENDAR