BEGIN:VCALENDAR
VERSION:2.0
PRODID:spatie/icalendar-generator
DESCRIPTION:Events from Scotch Pines
X-WR-CALDESC:Events from Scotch Pines
REFRESH-INTERVAL;VALUE=DURATION:PT1440M
X-PUBLISHED-TTL:PT1440M
BEGIN:VTIMEZONE
TZID:Etc/GMT+0
BEGIN:STANDARD
DTSTART:20251221T000000Z
TZOFFSETFROM:+0000
TZOFFSETTO:+0000
END:STANDARD
END:VTIMEZONE
BEGIN:VTIMEZONE
TZID:UTC
BEGIN:STANDARD
DTSTART:20250724T091703Z
TZOFFSETFROM:+0000
TZOFFSETTO:+0000
END:STANDARD
END:VTIMEZONE
BEGIN:VEVENT
UID:190-161
DTSTAMP:20260420T091703Z
SUMMARY:Senior 2-Lady (50+) Scramble (9:00 AM SG)
LOCATION:
ORGANIZER;CN=foreUPwebsites:MAILTO:websites2@foreup.com
DTSTART;TZID=Etc/GMT+0;VALUE=DATE:20260917
DTEND;TZID=Etc/GMT+0;VALUE=DATE:20260918
X-ALT-DESC;FMTTYPE=TEXT/HTML:
CATEGORIES:Aeration
URL;VALUE=URI:https://scotchpinesgolf.com/mc-events/senior-2-lady-50-scramb
 le-900-am-sg/
METHOD:PUBLISH
END:VEVENT
END:VCALENDAR